BEGIN:VCALENDAR
VERSION:2.0
PRODID:-//wp-events-plugin.com//7.2.3.1//EN
TZID:Europe/Berlin
X-WR-TIMEZONE:Europe/Berlin
BEGIN:VEVENT
UID:13@nepalhilfe-kulmbach.de
DTSTART;TZID=Europe/Berlin:20171202T093000
DTEND;TZID=Europe/Berlin:20171203T170000
DTSTAMP:20171118T184541Z
URL:https://nepalhilfe-kulmbach.de/termine/grosser-nepal-markt/
SUMMARY:Großer Nepal-Markt jedes Jahr am 1. Advents-Wochenende
DESCRIPTION:Weitere Informationen: Flyer Weihnachtsmarkt\n\n\n\n&amp\;amp\;
 amp\;lt\;a href="http://nepalhilfe-kulmbach.de/wp-content/uploads/2017/10/
 Flyer-Weihnachtsmarkt.pdf" data-mce-href="http://nepalhilfe-kulmbach.de/wp
 -content/uploads/2017/10/Flyer-Weihnachtsmarkt.pdf"&amp\;amp\;amp\;gt\;Fly
 er Weihnachtsmarkt&amp\;amp\;amp\;lt\;/a&amp\;amp\;amp\;gt\;
LOCATION:Dr.-Stammberger-Halle\, Sutte2\, Kulmbach\, 95326\, Deutschland
GEO:50.1091105;11.458088399999951
X-APPLE-STRUCTURED-LOCATION;VALUE=URI;X-ADDRESS=Sutte2\, Kulmbach\, 95326\,
  Deutschland;X-APPLE-RADIUS=100;X-TITLE=Dr.-Stammberger-Halle:geo:50.10911
 05,11.458088399999951
END:VEVENT
BEGIN:VTIMEZONE
TZID:Europe/Berlin
X-LIC-LOCATION:Europe/Berlin
BEGIN:STANDARD
DTSTART:20171029T020000
TZOFFSETFROM:+0200
TZOFFSETTO:+0100
TZNAME:CET
END:STANDARD
END:VTIMEZONE
END:VCALENDAR