BEGIN:VCALENDAR
VERSION:2.0
PRODID:-//wp-events-plugin.com//7.2.3.1//EN
TZID:Europe/Berlin
X-WR-TIMEZONE:Europe/Berlin
BEGIN:VEVENT
UID:36@nepalhilfe-kulmbach.de
DTSTART;TZID=Europe/Berlin;VALUE=DATE:20190818
DTEND;TZID=Europe/Berlin;VALUE=DATE:20191031
DTSTAMP:20190927T185224Z
URL:https://nepalhilfe-kulmbach.de/termine/information-zu-den-nepalreise-e
 insaetzen/
SUMMARY:Information zu den Nepalreise Einsätzen 2019
DESCRIPTION:nachfolgende Unterstützter der Nepalhilfe Kulmbach schauen vor
  Ort nach dem Rechten und unterstützen die Tätigkeiten des Vereins.\n\n 
 	Phillip und Christina Schulte vom 18.8 bis 1.9.19\n 	Dr. Angela Schweda v
 om 31.8-7.9.19\n 	Lisa Somhegyi vom 3.9 bis 31.10.19\n 	Dr. Johann Hunger 
 vom 7.9 bis 4.10.19\n 	Zahnarzteinsatz - Dr. Oliver Heilmann in Planung\n
END:VEVENT
BEGIN:VTIMEZONE
TZID:Europe/Berlin
X-LIC-LOCATION:Europe/Berlin
BEGIN:DAYLIGHT
DTSTART:20190331T030000
TZOFFSETFROM:+0100
TZOFFSETTO:+0200
TZNAME:CEST
END:DAYLIGHT
BEGIN:STANDARD
DTSTART:20191027T020000
TZOFFSETFROM:+0200
TZOFFSETTO:+0100
TZNAME:CET
END:STANDARD
END:VTIMEZONE
END:VCALENDAR