BEGIN:VCALENDAR
VERSION:2.0
PRODID:-//wp-events-plugin.com//7.2.3.1//EN
TZID:Europe/Berlin
X-WR-TIMEZONE:Europe/Berlin
BEGIN:VEVENT
UID:6@nepalhilfe-kulmbach.de
DTSTART;TZID=Europe/Berlin:20170428T190000
DTEND;TZID=Europe/Berlin:20170428T190000
DTSTAMP:20170213T171455Z
URL:https://nepalhilfe-kulmbach.de/termine/jahreshauptversammlung-am-freit
 ag-28-4-2017-1900-uhr-im-mupaez/
SUMMARY:Jahreshauptversammlung am Freitag\, 28.4.2017 um 19:00 Uhr im MUPÄ
 Z
DESCRIPTION:Am Freitag\, 28.4.2017 um 19:00 Uhr sind alle Mitglieder recht 
 herzlich \neingeladen zu unserer Jahreshauptversammlung mit Neuwahlen des 
 Vorstands \nund des Beirats.
LOCATION:Mönchshofbräu\, Hofer Str. 20\, Kulmbach\, 95326\, Deutschland
GEO:50.114558;11.468631800000026
X-APPLE-STRUCTURED-LOCATION;VALUE=URI;X-ADDRESS=Hofer Str. 20\, Kulmbach\, 
 95326\, Deutschland;X-APPLE-RADIUS=100;X-TITLE=Mönchshofbräu:geo:50.1145
 58,11.468631800000026
END:VEVENT
BEGIN:VTIMEZONE
TZID:Europe/Berlin
X-LIC-LOCATION:Europe/Berlin
BEGIN:DAYLIGHT
DTSTART:20170326T030000
TZOFFSETFROM:+0100
TZOFFSETTO:+0200
TZNAME:CEST
END:DAYLIGHT
END:VTIMEZONE
END:VCALENDAR