BEGIN:VCALENDAR
VERSION:2.0
PRODID:-//wp-events-plugin.com//7.2.3.1//EN
TZID:Europe/Berlin
X-WR-TIMEZONE:Europe/Berlin
BEGIN:VEVENT
UID:39@nepalhilfe-kulmbach.de
DTSTART;TZID=Europe/Berlin:20191114T190000
DTEND;TZID=Europe/Berlin:20191114T190000
DTSTAMP:20191110T172556Z
URL:https://nepalhilfe-kulmbach.de/termine/vortrag-ueber-nepal-im-pilgerbu
 ero-in-marienweiher-am-14-november-um-19-uhr/
SUMMARY:Vortrag über Nepal im Pilgerbüro in Marienweiher am 14. November 
 um 19 Uhr
DESCRIPTION:Vortrag des Pilgerbüros Marienweiher über Nepal von und mit S
 igrid Daum.\n\nWann: Donnerstag\, 14. November\, 19.00 Uhr\n\nWo: Wallfahr
 erhaus Marienweiher
END:VEVENT
BEGIN:VTIMEZONE
TZID:Europe/Berlin
X-LIC-LOCATION:Europe/Berlin
BEGIN:STANDARD
DTSTART:20191027T020000
TZOFFSETFROM:+0200
TZOFFSETTO:+0100
TZNAME:CET
END:STANDARD
END:VTIMEZONE
END:VCALENDAR