BEGIN:VCALENDAR
VERSION:2.0
PRODID:-//wp-events-plugin.com//7.2.3.1//EN
TZID:Europe/Berlin
X-WR-TIMEZONE:Europe/Berlin
BEGIN:VEVENT
UID:33@nepalhilfe-kulmbach.de
DTSTART;TZID=Europe/Berlin:20190321T193000
DTEND;TZID=Europe/Berlin:20190321T213000
DTSTAMP:20190120T192812Z
URL:https://nepalhilfe-kulmbach.de/termine/vortrag-von-sigrid-daum-im-gast
 hof-schicker/
SUMMARY:Vortrag von Sigrid Daum im Gasthof Schicker in Ludwigschorgast
DESCRIPTION:&nbsp\;\nam 21 März 2019 \nvon 19:30 bis ungefähr 21:30 \na
 m Endelsbach 7 in 95364 Ludwigschorgast \n&nbsp\;\n\nWir freuen uns auf I
 hr Kommen. Eintritt frei\, Spenden erbeten für die Nepalhilfe Kulmbach. 
END:VEVENT
BEGIN:VTIMEZONE
TZID:Europe/Berlin
X-LIC-LOCATION:Europe/Berlin
BEGIN:STANDARD
DTSTART:20181028T020000
TZOFFSETFROM:+0200
TZOFFSETTO:+0100
TZNAME:CET
END:STANDARD
END:VTIMEZONE
END:VCALENDAR