BEGIN:VCALENDAR
VERSION:2.0
PRODID:-//wp-events-plugin.com//7.2.3.1//EN
TZID:Europe/Berlin
X-WR-TIMEZONE:Europe/Berlin
BEGIN:VEVENT
UID:47@nepalhilfe-kulmbach.de
DTSTART;TZID=Europe/Berlin:20221126T100000
DTEND;TZID=Europe/Berlin:20221126T170000
DTSTAMP:20221120T161919Z
URL:https://nepalhilfe-kulmbach.de/termine/weihnachtsmarkt-in-der-dr-stamm
 berger-halle-in-kulmbach/
SUMMARY:Weihnachtsmarkt in der Dr.-Stammberger-Halle in Kulmbach
DESCRIPTION:Weihnachtsmarkt in der Dr.-Stammberger-Haller\n\nStadthalle\, S
 utte 2\, 95326 Kulmbach.\n\nBeginn 10:00\n\n&nbsp\;
END:VEVENT
BEGIN:VTIMEZONE
TZID:Europe/Berlin
X-LIC-LOCATION:Europe/Berlin
BEGIN:STANDARD
DTSTART:20221030T020000
TZOFFSETFROM:+0200
TZOFFSETTO:+0100
TZNAME:CET
END:STANDARD
END:VTIMEZONE
END:VCALENDAR