BEGIN:VCALENDAR
VERSION:2.0
PRODID:-//wp-events-plugin.com//7.2.3.1//EN
TZID:Europe/Berlin
X-WR-TIMEZONE:Europe/Berlin
BEGIN:VEVENT
UID:30@nepalhilfe-kulmbach.de
DTSTART;TZID=Europe/Berlin:20181216T110000
DTEND;TZID=Europe/Berlin:20181216T170000
DTSTAMP:20181205T191614Z
URL:https://nepalhilfe-kulmbach.de/termine/weihnachtsmarkt-mit-nepalesisch
 en-produkten-im-gewuerzmuseum-kulmbach-am-16-12-18/
SUMMARY:Weihnachtsmarkt mit nepalesischen Produkten im Gewürzmuseum am 16.
 12.18
DESCRIPTION:&nbsp\;\nTag der offenen Tür im Gewürzmuseum\nHofer Str. 20 i
 n 95326 Kulmbach\nvon 11:00 bis 17:00.\nEintritt frei!\n&nbsp\;
END:VEVENT
BEGIN:VTIMEZONE
TZID:Europe/Berlin
X-LIC-LOCATION:Europe/Berlin
BEGIN:STANDARD
DTSTART:20181028T020000
TZOFFSETFROM:+0200
TZOFFSETTO:+0100
TZNAME:CET
END:STANDARD
END:VTIMEZONE
END:VCALENDAR